BEGIN:VCALENDAR
VERSION:2.0
PRODID:-//Orange County DSA - ECPv6.15.20//NONSGML v1.0//EN
CALSCALE:GREGORIAN
METHOD:PUBLISH
X-WR-CALNAME:Orange County DSA
X-ORIGINAL-URL:https://www.ocdsa.org
X-WR-CALDESC:Events for Orange County DSA
REFRESH-INTERVAL;VALUE=DURATION:PT1H
X-Robots-Tag:noindex
X-PUBLISHED-TTL:PT1H
BEGIN:VTIMEZONE
TZID:America/Los_Angeles
BEGIN:DAYLIGHT
TZOFFSETFROM:-0800
TZOFFSETTO:-0700
TZNAME:PDT
DTSTART:20240310T100000
END:DAYLIGHT
BEGIN:STANDARD
TZOFFSETFROM:-0700
TZOFFSETTO:-0800
TZNAME:PST
DTSTART:20241103T090000
END:STANDARD
BEGIN:DAYLIGHT
TZOFFSETFROM:-0800
TZOFFSETTO:-0700
TZNAME:PDT
DTSTART:20250309T100000
END:DAYLIGHT
BEGIN:STANDARD
TZOFFSETFROM:-0700
TZOFFSETTO:-0800
TZNAME:PST
DTSTART:20251102T090000
END:STANDARD
BEGIN:DAYLIGHT
TZOFFSETFROM:-0800
TZOFFSETTO:-0700
TZNAME:PDT
DTSTART:20260308T100000
END:DAYLIGHT
BEGIN:STANDARD
TZOFFSETFROM:-0700
TZOFFSETTO:-0800
TZNAME:PST
DTSTART:20261101T090000
END:STANDARD
END:VTIMEZONE
BEGIN:VEVENT
DTSTART;TZID=America/Los_Angeles:20250427T073000
DTEND;TZID=America/Los_Angeles:20250427T123000
DTSTAMP:20260421T191213
CREATED:20250408T215233Z
LAST-MODIFIED:20250408T215233Z
UID:293-1745739000-1745757000@www.ocdsa.org
SUMMARY:April Mutual Aid Event
DESCRIPTION:On 27 April from 7:30AM-12:30PM\, we will be returning to Someone Cares for our April Mutual Aid Opportunity.\n\nWe have also been specifically asked to bring one-gallon zip-lock baggies this time around. Our crew in the back will be using them to package animal food\, grains\, and other miscellaneous items for individual distribution to our guests. With spring in full bloom\, this is also an excellent opportunity for everyone to get rid of plastic shopping bags they have lying around their homes as the soup kitchen definitely needs them to get other donations out to folks!\n\nIf you’re interested in jumping in for this mutual aid opportunity\, please sign up using the form below:\nhttps://forms.gle/beh5MxbHCCvo33xU9
URL:https://www.ocdsa.org/event/april-mutual-aid-event/
LOCATION:Someone Cares Soup Kitchen\, 720 W 19th St\, Costa Mesa\, CA\, 92627\, United States
ORGANIZER;CN="Orange County DSA":MAILTO:contact@ocdsa.org
END:VEVENT
END:VCALENDAR