BEGIN:VCALENDAR
VERSION:2.0
PRODID:-//Orange County DSA - ECPv6.15.20//NONSGML v1.0//EN
CALSCALE:GREGORIAN
METHOD:PUBLISH
X-ORIGINAL-URL:https://www.ocdsa.org
X-WR-CALDESC:Events for Orange County DSA
REFRESH-INTERVAL;VALUE=DURATION:PT1H
X-Robots-Tag:noindex
X-PUBLISHED-TTL:PT1H
BEGIN:VTIMEZONE
TZID:America/Los_Angeles
BEGIN:DAYLIGHT
TZOFFSETFROM:-0800
TZOFFSETTO:-0700
TZNAME:PDT
DTSTART:20240310T100000
END:DAYLIGHT
BEGIN:STANDARD
TZOFFSETFROM:-0700
TZOFFSETTO:-0800
TZNAME:PST
DTSTART:20241103T090000
END:STANDARD
BEGIN:DAYLIGHT
TZOFFSETFROM:-0800
TZOFFSETTO:-0700
TZNAME:PDT
DTSTART:20250309T100000
END:DAYLIGHT
BEGIN:STANDARD
TZOFFSETFROM:-0700
TZOFFSETTO:-0800
TZNAME:PST
DTSTART:20251102T090000
END:STANDARD
BEGIN:DAYLIGHT
TZOFFSETFROM:-0800
TZOFFSETTO:-0700
TZNAME:PDT
DTSTART:20260308T100000
END:DAYLIGHT
BEGIN:STANDARD
TZOFFSETFROM:-0700
TZOFFSETTO:-0800
TZNAME:PST
DTSTART:20261101T090000
END:STANDARD
END:VTIMEZONE
BEGIN:VEVENT
DTSTART;TZID=America/Los_Angeles:20250627T230000
DTEND;TZID=America/Los_Angeles:20250628T020000
DTSTAMP:20260420T110415
CREATED:20250618T203222Z
LAST-MODIFIED:20250619T000604Z
UID:430-1751065200-1751076000@www.ocdsa.org
SUMMARY:June 2025 Socialist Social: Midnight Madness at the Rocky Horror Picture Show
DESCRIPTION:To celebrate Pride and show out for a beloved local business\, OC-DSA will be heading out to the Frida Cinema on Friday 27 June to catch Midnight Madness presenting The Rocky Horror Picture Show. This is a screening of the classic camp musical with a live shadow cast performing simultaneously\, promising to be a raucous\, wild\, and saucy affair that will be sure to leave you shivering with antici…pation. Wear your fishnets\, high heels\, and golden speedos if you have them\, and join us for a Franken good time! \n\n\n\n\nRSVP Link
URL:https://www.ocdsa.org/event/june-2025-socialist-social-midnight-madness-at-the-rocky-horror-picture-show/
LOCATION:The Frida Cinema\, 305 E 4th St Ste 100\, Santa Ana\, CA\, 92701\, United States
ORGANIZER;CN="Orange County DSA":MAILTO:contact@ocdsa.org
END:VEVENT
END:VCALENDAR