BEGIN:VCALENDAR
VERSION:2.0
PRODID:-//Orange County DSA - ECPv6.15.20//NONSGML v1.0//EN
CALSCALE:GREGORIAN
METHOD:PUBLISH
X-WR-CALNAME:Orange County DSA
X-ORIGINAL-URL:https://www.ocdsa.org
X-WR-CALDESC:Events for Orange County DSA
REFRESH-INTERVAL;VALUE=DURATION:PT1H
X-Robots-Tag:noindex
X-PUBLISHED-TTL:PT1H
BEGIN:VTIMEZONE
TZID:America/Los_Angeles
BEGIN:DAYLIGHT
TZOFFSETFROM:-0800
TZOFFSETTO:-0700
TZNAME:PDT
DTSTART:20240310T100000
END:DAYLIGHT
BEGIN:STANDARD
TZOFFSETFROM:-0700
TZOFFSETTO:-0800
TZNAME:PST
DTSTART:20241103T090000
END:STANDARD
BEGIN:DAYLIGHT
TZOFFSETFROM:-0800
TZOFFSETTO:-0700
TZNAME:PDT
DTSTART:20250309T100000
END:DAYLIGHT
BEGIN:STANDARD
TZOFFSETFROM:-0700
TZOFFSETTO:-0800
TZNAME:PST
DTSTART:20251102T090000
END:STANDARD
BEGIN:DAYLIGHT
TZOFFSETFROM:-0800
TZOFFSETTO:-0700
TZNAME:PDT
DTSTART:20260308T100000
END:DAYLIGHT
BEGIN:STANDARD
TZOFFSETFROM:-0700
TZOFFSETTO:-0800
TZNAME:PST
DTSTART:20261101T090000
END:STANDARD
END:VTIMEZONE
BEGIN:VEVENT
DTSTART;TZID=America/Los_Angeles:20250831T113000
DTEND;TZID=America/Los_Angeles:20250831T193000
DTSTAMP:20260420T054049
CREATED:20250817T165350Z
LAST-MODIFIED:20250817T165350Z
UID:522-1756639800-1756668600@www.ocdsa.org
SUMMARY:August 2025 Social
DESCRIPTION:To wrap summer up in the best way we in Orange County can\, OCDSA will be hosting a summer social open to any member of DSA. This social will be at Bolsa Chica State Beach in Huntington Beach at Picnic Area 12C from 11:30AM-7:30PM. You are welcome to drop by anytime during the social you’d like (even the whole 8 hours if you’re a big beach person)\, and we ask only that you bring your sunscreen\, a swimsuit\, a beach chair\, and one potluck item of your choice! Invitations for the social are already out\, so please plan to come by to celebrate the end of the summer with your comrades from all over Southern California!\nRSVP Link | Potluck Link
URL:https://www.ocdsa.org/event/august-2025-social/
LOCATION:Bolsa Chica State Beach\, 17851 Pacific Coast Highway\, Huntington Beach\, CA\, 92649\, United States
ORGANIZER;CN="Orange County DSA":MAILTO:contact@ocdsa.org
END:VEVENT
END:VCALENDAR