BEGIN:VCALENDAR
VERSION:2.0
PRODID:-//Orange County DSA - ECPv6.15.20//NONSGML v1.0//EN
CALSCALE:GREGORIAN
METHOD:PUBLISH
X-ORIGINAL-URL:https://www.ocdsa.org
X-WR-CALDESC:Events for Orange County DSA
REFRESH-INTERVAL;VALUE=DURATION:PT1H
X-Robots-Tag:noindex
X-PUBLISHED-TTL:PT1H
BEGIN:VTIMEZONE
TZID:America/Los_Angeles
BEGIN:DAYLIGHT
TZOFFSETFROM:-0800
TZOFFSETTO:-0700
TZNAME:PDT
DTSTART:20240310T100000
END:DAYLIGHT
BEGIN:STANDARD
TZOFFSETFROM:-0700
TZOFFSETTO:-0800
TZNAME:PST
DTSTART:20241103T090000
END:STANDARD
BEGIN:DAYLIGHT
TZOFFSETFROM:-0800
TZOFFSETTO:-0700
TZNAME:PDT
DTSTART:20250309T100000
END:DAYLIGHT
BEGIN:STANDARD
TZOFFSETFROM:-0700
TZOFFSETTO:-0800
TZNAME:PST
DTSTART:20251102T090000
END:STANDARD
BEGIN:DAYLIGHT
TZOFFSETFROM:-0800
TZOFFSETTO:-0700
TZNAME:PDT
DTSTART:20260308T100000
END:DAYLIGHT
BEGIN:STANDARD
TZOFFSETFROM:-0700
TZOFFSETTO:-0800
TZNAME:PST
DTSTART:20261101T090000
END:STANDARD
END:VTIMEZONE
BEGIN:VEVENT
DTSTART;TZID=America/Los_Angeles:20250525T073000
DTEND;TZID=America/Los_Angeles:20250525T123000
DTSTAMP:20260422T002107
CREATED:20250505T174109Z
LAST-MODIFIED:20250505T174109Z
UID:353-1748158200-1748176200@www.ocdsa.org
SUMMARY:Mutual Aid Opportunity May 2025
DESCRIPTION:Our May mutual aid opportunity is going to be at the Someone Cares Soup Kitchen again at 720 W 19th Street\, Costa Mesa on 25 May from 7:30AM-12:30PM.  Due to this month’s general meeting being pushed back by a week\, donations can be collected at any of our events leading up to the mutual aid opportunity for those who might care to contribute but can’t make it out on the morning of Sunday the 25th. To signup for the volunteer shift or to see a complete list of items we will be collecting for our drive\, please click the links below: \nSignup Form | List of Needed Items
URL:https://www.ocdsa.org/event/mutual-aid-opportunity-may-2025/
LOCATION:Someone Cares Soup Kitchen\, 720 W 19th St\, Costa Mesa\, CA\, 92627\, United States
ORGANIZER;CN="Orange County DSA":MAILTO:contact@ocdsa.org
END:VEVENT
END:VCALENDAR