BEGIN:VCALENDAR
VERSION:2.0
PRODID:-//Orange County DSA - ECPv6.15.20//NONSGML v1.0//EN
CALSCALE:GREGORIAN
METHOD:PUBLISH
X-ORIGINAL-URL:https://www.ocdsa.org
X-WR-CALDESC:Events for Orange County DSA
REFRESH-INTERVAL;VALUE=DURATION:PT1H
X-Robots-Tag:noindex
X-PUBLISHED-TTL:PT1H
BEGIN:VTIMEZONE
TZID:America/Los_Angeles
BEGIN:DAYLIGHT
TZOFFSETFROM:-0800
TZOFFSETTO:-0700
TZNAME:PDT
DTSTART:20240310T100000
END:DAYLIGHT
BEGIN:STANDARD
TZOFFSETFROM:-0700
TZOFFSETTO:-0800
TZNAME:PST
DTSTART:20241103T090000
END:STANDARD
BEGIN:DAYLIGHT
TZOFFSETFROM:-0800
TZOFFSETTO:-0700
TZNAME:PDT
DTSTART:20250309T100000
END:DAYLIGHT
BEGIN:STANDARD
TZOFFSETFROM:-0700
TZOFFSETTO:-0800
TZNAME:PST
DTSTART:20251102T090000
END:STANDARD
BEGIN:DAYLIGHT
TZOFFSETFROM:-0800
TZOFFSETTO:-0700
TZNAME:PDT
DTSTART:20260308T100000
END:DAYLIGHT
BEGIN:STANDARD
TZOFFSETFROM:-0700
TZOFFSETTO:-0800
TZNAME:PST
DTSTART:20261101T090000
END:STANDARD
END:VTIMEZONE
BEGIN:VEVENT
DTSTART;TZID=America/Los_Angeles:20250501T150000
DTEND;TZID=America/Los_Angeles:20250501T210000
DTSTAMP:20260421T190527
CREATED:20250425T225447Z
LAST-MODIFIED:20250501T025358Z
UID:327-1746111600-1746133200@www.ocdsa.org
SUMMARY:May Day March & Rally 2025
DESCRIPTION:  \n \n OC-DSA will be taking to the street with our coalition partners next Thursday in commemoration of International Workers Day. Join us on May 1st\, 2025 International Workers Day for a rally and march in Santa Ana as we build unity and demand an end to the attack on immigrant and refugee families. As neighbors from working class communities\, we are coming together to fight for each other and say NO to raids\, NO to ICE transfers\, and NO more money for family separation. \nThis country and county runs on our labor. The wealth we generate should be used to care for working families and our communities!Join us if you feel the same. \nEl Centro Cultural de Mexico\, 837 N. Ross St\, Santa Ana\, CA Rally starts at 3:30 pm. Gather at 3:00 PM Follow our hosts on IG at @ocmayday and Facebook at OC May Day Coalition \nSignup below:\nOC-DSA May Day RSVPs
URL:https://www.ocdsa.org/event/may-day-march-rally-2025/
LOCATION:El Centro Cultural de México\, 837 N Ross St\, Santa Ana\, CA\, 92701\, United States
END:VEVENT
END:VCALENDAR