BEGIN:VCALENDAR
VERSION:2.0
PRODID:-//Orange County DSA - ECPv6.15.20//NONSGML v1.0//EN
CALSCALE:GREGORIAN
METHOD:PUBLISH
X-WR-CALNAME:Orange County DSA
X-ORIGINAL-URL:https://www.ocdsa.org
X-WR-CALDESC:Events for Orange County DSA
REFRESH-INTERVAL;VALUE=DURATION:PT1H
X-Robots-Tag:noindex
X-PUBLISHED-TTL:PT1H
BEGIN:VTIMEZONE
TZID:America/Los_Angeles
BEGIN:DAYLIGHT
TZOFFSETFROM:-0800
TZOFFSETTO:-0700
TZNAME:PDT
DTSTART:20240310T100000
END:DAYLIGHT
BEGIN:STANDARD
TZOFFSETFROM:-0700
TZOFFSETTO:-0800
TZNAME:PST
DTSTART:20241103T090000
END:STANDARD
BEGIN:DAYLIGHT
TZOFFSETFROM:-0800
TZOFFSETTO:-0700
TZNAME:PDT
DTSTART:20250309T100000
END:DAYLIGHT
BEGIN:STANDARD
TZOFFSETFROM:-0700
TZOFFSETTO:-0800
TZNAME:PST
DTSTART:20251102T090000
END:STANDARD
BEGIN:DAYLIGHT
TZOFFSETFROM:-0800
TZOFFSETTO:-0700
TZNAME:PDT
DTSTART:20260308T100000
END:DAYLIGHT
BEGIN:STANDARD
TZOFFSETFROM:-0700
TZOFFSETTO:-0800
TZNAME:PST
DTSTART:20261101T090000
END:STANDARD
END:VTIMEZONE
BEGIN:VEVENT
DTSTART;TZID=America/Los_Angeles:20250628T100000
DTEND;TZID=America/Los_Angeles:20250628T190000
DTSTAMP:20260421T181515
CREATED:20250625T184712Z
LAST-MODIFIED:20250625T185625Z
UID:450-1751104800-1751137200@www.ocdsa.org
SUMMARY:Ice Out of Santa Ana Pride
DESCRIPTION:Join us at Santa Ana Pride on Saturday\, June 28th from 10:00 AM to 7:00 PM (or right after our General Meeting​ from 1:30 to 7:00 PM) to help keep our community safe! The Immigrant Justice Working Group is partnering with Affirming OC to keep Santa Ana Pride safe from ICE. We’ll be conducting ICE watch and distributing Know Your Rights (KYR) flyers to protect our community. Pride should be a joyful and secure space for everyone\, especially our undocumented LGBTQ+ family. Volunteers are needed to help monitor and educate attendees! Sign up to join the effort! Together\, we’ll ensure ICE stays out of Santa Ana Pride!\nSignup Link​
URL:https://www.ocdsa.org/event/ice-out-of-santa-ana-pride/
LOCATION:Santa Ana Pride\, 125 N Broadway\, Santa Ana\, CA\, 92701\, United States
ORGANIZER;CN="Orange County DSA":MAILTO:contact@ocdsa.org
END:VEVENT
END:VCALENDAR