BEGIN:VCALENDAR
VERSION:2.0
PRODID:-//Orange County DSA - ECPv6.15.20//NONSGML v1.0//EN
CALSCALE:GREGORIAN
METHOD:PUBLISH
X-ORIGINAL-URL:https://www.ocdsa.org
X-WR-CALDESC:Events for Orange County DSA
REFRESH-INTERVAL;VALUE=DURATION:PT1H
X-Robots-Tag:noindex
X-PUBLISHED-TTL:PT1H
BEGIN:VTIMEZONE
TZID:America/Los_Angeles
BEGIN:DAYLIGHT
TZOFFSETFROM:-0800
TZOFFSETTO:-0700
TZNAME:PDT
DTSTART:20240310T100000
END:DAYLIGHT
BEGIN:STANDARD
TZOFFSETFROM:-0700
TZOFFSETTO:-0800
TZNAME:PST
DTSTART:20241103T090000
END:STANDARD
BEGIN:DAYLIGHT
TZOFFSETFROM:-0800
TZOFFSETTO:-0700
TZNAME:PDT
DTSTART:20250309T100000
END:DAYLIGHT
BEGIN:STANDARD
TZOFFSETFROM:-0700
TZOFFSETTO:-0800
TZNAME:PST
DTSTART:20251102T090000
END:STANDARD
BEGIN:DAYLIGHT
TZOFFSETFROM:-0800
TZOFFSETTO:-0700
TZNAME:PDT
DTSTART:20260308T100000
END:DAYLIGHT
BEGIN:STANDARD
TZOFFSETFROM:-0700
TZOFFSETTO:-0800
TZNAME:PST
DTSTART:20261101T090000
END:STANDARD
END:VTIMEZONE
BEGIN:VEVENT
DTSTART;TZID=America/Los_Angeles:20250628T110000
DTEND;TZID=America/Los_Angeles:20250628T133000
DTSTAMP:20260421T192909
CREATED:20250606T033030Z
LAST-MODIFIED:20250625T183544Z
UID:409-1751108400-1751117400@www.ocdsa.org
SUMMARY:June 2025 General Meeting
DESCRIPTION:For June\, we are running another administrative meeting to give us more time to prepare for our Chapter Convention in July. The June administrative meeting will run from 11:00AM-1:30PM at the Verano Place Community Center at University of California\, Irvine (70000 Verano Rd\, Irvine\, CA. 92617) on 28 June. During this administrative meeting\, we will be opening the agenda to new resolutions from the membership and catching up on a bit more housekeeping. Please plan to pay for parking at the Verano Parking Structure across the street and walking directly to the venue. To pay for parking\, please park on the top two floors of the structure before clicking the following link and filling out the form with the parking code of the structure AND your license plate number. UCI is very strict about parking and will likely ticket you if you do not register your vehicle before you park. \nSignup Link
URL:https://www.ocdsa.org/event/june-2025-general-meeting/
LOCATION:Verano Place Community Center\, 70000 Verano Rd\, Irvine\, CA\, 92617\, United States
ORGANIZER;CN="Orange County DSA":MAILTO:contact@ocdsa.org
END:VEVENT
END:VCALENDAR