BEGIN:VCALENDAR
VERSION:2.0
PRODID:-//Orange County DSA - ECPv6.15.20//NONSGML v1.0//EN
CALSCALE:GREGORIAN
METHOD:PUBLISH
X-ORIGINAL-URL:https://www.ocdsa.org
X-WR-CALDESC:Events for Orange County DSA
REFRESH-INTERVAL;VALUE=DURATION:PT1H
X-Robots-Tag:noindex
X-PUBLISHED-TTL:PT1H
BEGIN:VTIMEZONE
TZID:America/Los_Angeles
BEGIN:DAYLIGHT
TZOFFSETFROM:-0800
TZOFFSETTO:-0700
TZNAME:PDT
DTSTART:20240310T100000
END:DAYLIGHT
BEGIN:STANDARD
TZOFFSETFROM:-0700
TZOFFSETTO:-0800
TZNAME:PST
DTSTART:20241103T090000
END:STANDARD
BEGIN:DAYLIGHT
TZOFFSETFROM:-0800
TZOFFSETTO:-0700
TZNAME:PDT
DTSTART:20250309T100000
END:DAYLIGHT
BEGIN:STANDARD
TZOFFSETFROM:-0700
TZOFFSETTO:-0800
TZNAME:PST
DTSTART:20251102T090000
END:STANDARD
BEGIN:DAYLIGHT
TZOFFSETFROM:-0800
TZOFFSETTO:-0700
TZNAME:PDT
DTSTART:20260308T100000
END:DAYLIGHT
BEGIN:STANDARD
TZOFFSETFROM:-0700
TZOFFSETTO:-0800
TZNAME:PST
DTSTART:20261101T090000
END:STANDARD
END:VTIMEZONE
BEGIN:VEVENT
DTSTART;TZID=America/Los_Angeles:20250823T110000
DTEND;TZID=America/Los_Angeles:20250823T133000
DTSTAMP:20260421T141131
CREATED:20250817T164756Z
LAST-MODIFIED:20250817T164756Z
UID:520-1755946800-1755955800@www.ocdsa.org
SUMMARY:August 2025 General Meeting
DESCRIPTION:This month\, OCDSA will be meeting at CWA Local 9510 from 11:00AM-1:30PM on 23 August for our general meeting. This month\, we will be debriefing from our National Convention in Chicago\, voting on new resolutions\, ensuring that our bills get paid\, and opening up discussion to the membership as possible to make OCDSA a friendly and accessible environment for any comrade who shares our vision and hopes to make a real change in the places we live. \nGeneral Meeting RSVP
URL:https://www.ocdsa.org/event/august-2025-general-meeting/
LOCATION:CWA Local 9510\, 606 N Eckhoff St\, Orange\, CA\, 92868\, United States
ORGANIZER;CN="Orange County DSA":MAILTO:contact@ocdsa.org
END:VEVENT
END:VCALENDAR