BEGIN:VCALENDAR
VERSION:2.0
PRODID:-//Orange County DSA - ECPv6.15.20//NONSGML v1.0//EN
CALSCALE:GREGORIAN
METHOD:PUBLISH
X-WR-CALNAME:Orange County DSA
X-ORIGINAL-URL:https://www.ocdsa.org
X-WR-CALDESC:Events for Orange County DSA
REFRESH-INTERVAL;VALUE=DURATION:PT1H
X-Robots-Tag:noindex
X-PUBLISHED-TTL:PT1H
BEGIN:VTIMEZONE
TZID:America/Los_Angeles
BEGIN:DAYLIGHT
TZOFFSETFROM:-0800
TZOFFSETTO:-0700
TZNAME:PDT
DTSTART:20240310T100000
END:DAYLIGHT
BEGIN:STANDARD
TZOFFSETFROM:-0700
TZOFFSETTO:-0800
TZNAME:PST
DTSTART:20241103T090000
END:STANDARD
BEGIN:DAYLIGHT
TZOFFSETFROM:-0800
TZOFFSETTO:-0700
TZNAME:PDT
DTSTART:20250309T100000
END:DAYLIGHT
BEGIN:STANDARD
TZOFFSETFROM:-0700
TZOFFSETTO:-0800
TZNAME:PST
DTSTART:20251102T090000
END:STANDARD
BEGIN:DAYLIGHT
TZOFFSETFROM:-0800
TZOFFSETTO:-0700
TZNAME:PDT
DTSTART:20260308T100000
END:DAYLIGHT
BEGIN:STANDARD
TZOFFSETFROM:-0700
TZOFFSETTO:-0800
TZNAME:PST
DTSTART:20261101T090000
END:STANDARD
END:VTIMEZONE
BEGIN:VEVENT
DTSTART;TZID=America/Los_Angeles:20251101T000000
DTEND;TZID=America/Los_Angeles:20251130T235959
DTSTAMP:20260421T014810
CREATED:20251114T215929Z
LAST-MODIFIED:20251114T215929Z
UID:645-1761955200-1764547199@www.ocdsa.org
SUMMARY:ICE Watch Hubs
DESCRIPTION:In collaboration with groups all over the county\, OCDSA is participating in community Hubs to keep our communities safe from ICE & the DHS. Please join us in standing in solidarity with the OC day laborer community. Immigrants have a right to seek work without fear of racial profiling and illegal detainment. Have some time to spare in the mornings? RSVP with your preferred contact info to learn how you can make a difference right now with OCDSA! RSVP Link
URL:https://www.ocdsa.org/event/ice-watch-hubs/
LOCATION:Announced Following Registration
END:VEVENT
END:VCALENDAR