BEGIN:VCALENDAR
VERSION:2.0
PRODID:-//Orange County DSA - ECPv6.15.20//NONSGML v1.0//EN
CALSCALE:GREGORIAN
METHOD:PUBLISH
X-WR-CALNAME:Orange County DSA
X-ORIGINAL-URL:https://www.ocdsa.org
X-WR-CALDESC:Events for Orange County DSA
REFRESH-INTERVAL;VALUE=DURATION:PT1H
X-Robots-Tag:noindex
X-PUBLISHED-TTL:PT1H
BEGIN:VTIMEZONE
TZID:America/Los_Angeles
BEGIN:DAYLIGHT
TZOFFSETFROM:-0800
TZOFFSETTO:-0700
TZNAME:PDT
DTSTART:20240310T100000
END:DAYLIGHT
BEGIN:STANDARD
TZOFFSETFROM:-0700
TZOFFSETTO:-0800
TZNAME:PST
DTSTART:20241103T090000
END:STANDARD
BEGIN:DAYLIGHT
TZOFFSETFROM:-0800
TZOFFSETTO:-0700
TZNAME:PDT
DTSTART:20250309T100000
END:DAYLIGHT
BEGIN:STANDARD
TZOFFSETFROM:-0700
TZOFFSETTO:-0800
TZNAME:PST
DTSTART:20251102T090000
END:STANDARD
BEGIN:DAYLIGHT
TZOFFSETFROM:-0800
TZOFFSETTO:-0700
TZNAME:PDT
DTSTART:20260308T100000
END:DAYLIGHT
BEGIN:STANDARD
TZOFFSETFROM:-0700
TZOFFSETTO:-0800
TZNAME:PST
DTSTART:20261101T090000
END:STANDARD
END:VTIMEZONE
BEGIN:VEVENT
DTSTART;TZID=America/Los_Angeles:20251018T083000
DTEND;TZID=America/Los_Angeles:20251018T233000
DTSTAMP:20260421T032923
CREATED:20251017T171810Z
LAST-MODIFIED:20251018T003726Z
UID:599-1760776200-1760830200@www.ocdsa.org
SUMMARY:October 2025 Know Your Rights Canvassing
DESCRIPTION:Please join us this Saturday\, October 18th\, 2025\, at 8:30am-11:30am for our next “Know Your Rights” canvassing event in Costa Mesa! We will be meeting at Lions Park for a debriefing of the canvassing points\, and the breaking up of canvassing groups to reach at-risk groups and share with them “Know Your Rights” packets. Spanish-speakers are a big plus but it’s absolutely not necessary. Looking forward to seeing you out there!
URL:https://www.ocdsa.org/event/october-2025-know-your-rights-canvassing/
LOCATION:Lions Park\, 570 W 18th St\, Costa Mesa\, CA\, 92627\, United States
ORGANIZER;CN="Orange County DSA":MAILTO:contact@ocdsa.org
END:VEVENT
BEGIN:VEVENT
DTSTART;TZID=America/Los_Angeles:20251018T140000
DTEND;TZID=America/Los_Angeles:20251018T170000
DTSTAMP:20260421T032923
CREATED:20251017T172018Z
LAST-MODIFIED:20251018T003404Z
UID:601-1760796000-1760806800@www.ocdsa.org
SUMMARY:No Kings Protest and Rally Part II
DESCRIPTION:Saturday\, 18 October is the second part of the No Kings Protests that occurred earlier this year. On 14 June this summer\, the first No Kings Protest saw nearly 6 million people take to the streets nationwide to protest the tyrannical overreach of the Trump regime\, making it the largest single day of protest in the history of the United States. This second No Kings Protest promises to be even bigger\, and OCDSA in particular has been asked to participate. Join us for an afternoon of tabling\, peaceful protesting\, community building\, and coalition building at Centennial Park in Santa Ana on 18 October from 2:00-5:00PM. Attendees are STRONGLY recommended to arrive between 1:00-1:30 to ensure they are able to find parking as this event will be packed! \nSign-Up Link
URL:https://www.ocdsa.org/event/no-kings-protest-and-rally-part-ii/
LOCATION:Centennial Park\, 3000 W Edinger Ave\, Santa Ana\, CA\, 92704\, United States
END:VEVENT
END:VCALENDAR